BEGIN:VCALENDAR
VERSION:2.0
PRODID:-//Town of Newton - ECPv6.15.19//NONSGML v1.0//EN
CALSCALE:GREGORIAN
METHOD:PUBLISH
X-ORIGINAL-URL:https://www.townofnewton.org
X-WR-CALDESC:Events for Town of Newton
REFRESH-INTERVAL;VALUE=DURATION:PT1H
X-Robots-Tag:noindex
X-PUBLISHED-TTL:PT1H
BEGIN:VTIMEZONE
TZID:America/Chicago
BEGIN:DAYLIGHT
TZOFFSETFROM:-0600
TZOFFSETTO:-0500
TZNAME:CDT
DTSTART:20210314T080000
END:DAYLIGHT
BEGIN:STANDARD
TZOFFSETFROM:-0500
TZOFFSETTO:-0600
TZNAME:CST
DTSTART:20211107T070000
END:STANDARD
BEGIN:DAYLIGHT
TZOFFSETFROM:-0600
TZOFFSETTO:-0500
TZNAME:CDT
DTSTART:20220313T080000
END:DAYLIGHT
BEGIN:STANDARD
TZOFFSETFROM:-0500
TZOFFSETTO:-0600
TZNAME:CST
DTSTART:20221106T070000
END:STANDARD
BEGIN:DAYLIGHT
TZOFFSETFROM:-0600
TZOFFSETTO:-0500
TZNAME:CDT
DTSTART:20230312T080000
END:DAYLIGHT
BEGIN:STANDARD
TZOFFSETFROM:-0500
TZOFFSETTO:-0600
TZNAME:CST
DTSTART:20231105T070000
END:STANDARD
END:VTIMEZONE
BEGIN:VEVENT
DTSTART;TZID=America/Chicago:20220912T180000
DTEND;TZID=America/Chicago:20220912T180000
DTSTAMP:20260420T075041
CREATED:20211128T212608Z
LAST-MODIFIED:20220518T125923Z
UID:10000155-1663005600-1663005600@www.townofnewton.org
SUMMARY:Planning Committee Meeting
DESCRIPTION:The Planning Committee meets the first Monday of each month at 6:00pm\, unless otherwise posted.
URL:https://www.townofnewton.org/event/planning-committee-meeting-2022-09-05/
CATEGORIES:Plan Commission
END:VEVENT
BEGIN:VEVENT
DTSTART;TZID=America/Chicago:20220914T170000
DTEND;TZID=America/Chicago:20220914T170000
DTSTAMP:20260420T075041
CREATED:20211123T191039Z
LAST-MODIFIED:20230504T141350Z
UID:10000011-1663174800-1663174800@www.townofnewton.org
SUMMARY:Town Board Meeting
DESCRIPTION:Town Board Meetings are held on the second Wednesday of every month\, unless otherwise posted.
URL:https://www.townofnewton.org/event/town-board-meeting/2022-09-14/
CATEGORIES:Board Meeting
END:VEVENT
BEGIN:VEVENT
DTSTART;TZID=America/Chicago:20220927T170000
DTEND;TZID=America/Chicago:20220927T170000
DTSTAMP:20260420T075041
CREATED:20220923T144033Z
LAST-MODIFIED:20220923T144112Z
UID:10000182-1664298000-1664298000@www.townofnewton.org
SUMMARY:Special Town Board Meeting
DESCRIPTION:The Town of Newton\, Manitowoc County\, WI lists this public notice pursuant to Chapter 19.84 of the Wisconsin Statutes. The Newton Town Board will meet at the Newton Town Hall\, 6532 Carstens Lake Road\, Manitowoc\, WI on Tuesday\, September 27\, 2022\, at 5:00 PM. \nAGENDA: \n\n\n\n\n\n\n\n\n\n\n\n\n1. Call to order. \n2. Pledge of Allegiance \n3. Roll Call \n4. Verification of posting & affidavit. \n5. Motion to approve agenda. \n\n\n\n\n\n\n\n\n\n\n6. Chairman: \n\nRecycling Center Cost/Expenses Discussion/Action\nBudget Discussion/Action Clerk- Alyssa’s Computer & Printer Discussion/Action\nDriveway Ordinance Discussion/Action\nDiscussion of meeting time change during the winter months for 2022-2023 meetings Discussion/Action\n\n7. Adjourn to go into Closed Session \nBoard will go into closed session pursuant to Chapter 19.85 (1)(c) of Wisconsin Statues to discuss personnel matters.\n8. Board will adjourn from closed session and reopen to special meeting\n9. Adjourn
URL:https://www.townofnewton.org/event/special-town-board-meeting-2/
CATEGORIES:Board Meeting
END:VEVENT
END:VCALENDAR