BEGIN:VCALENDAR
VERSION:2.0
PRODID:-//Town of Newton - ECPv6.15.19//NONSGML v1.0//EN
CALSCALE:GREGORIAN
METHOD:PUBLISH
X-WR-CALNAME:Town of Newton
X-ORIGINAL-URL:https://www.townofnewton.org
X-WR-CALDESC:Events for Town of Newton
REFRESH-INTERVAL;VALUE=DURATION:PT1H
X-Robots-Tag:noindex
X-PUBLISHED-TTL:PT1H
BEGIN:VTIMEZONE
TZID:America/Chicago
BEGIN:DAYLIGHT
TZOFFSETFROM:-0600
TZOFFSETTO:-0500
TZNAME:CDT
DTSTART:20210314T080000
END:DAYLIGHT
BEGIN:STANDARD
TZOFFSETFROM:-0500
TZOFFSETTO:-0600
TZNAME:CST
DTSTART:20211107T070000
END:STANDARD
BEGIN:DAYLIGHT
TZOFFSETFROM:-0600
TZOFFSETTO:-0500
TZNAME:CDT
DTSTART:20220313T080000
END:DAYLIGHT
BEGIN:STANDARD
TZOFFSETFROM:-0500
TZOFFSETTO:-0600
TZNAME:CST
DTSTART:20221106T070000
END:STANDARD
BEGIN:DAYLIGHT
TZOFFSETFROM:-0600
TZOFFSETTO:-0500
TZNAME:CDT
DTSTART:20230312T080000
END:DAYLIGHT
BEGIN:STANDARD
TZOFFSETFROM:-0500
TZOFFSETTO:-0600
TZNAME:CST
DTSTART:20231105T070000
END:STANDARD
END:VTIMEZONE
BEGIN:VEVENT
DTSTART;TZID=America/Chicago:20220606T180000
DTEND;TZID=America/Chicago:20220606T180000
DTSTAMP:20260420T122944
CREATED:20211128T212608Z
LAST-MODIFIED:20230727T131754Z
UID:10000087-1654538400-1654538400@www.townofnewton.org
SUMMARY:Plan Commission Meeting
DESCRIPTION:The Plan Commission meets the first Monday of each month at 6:00pm\, unless otherwise posted.
URL:https://www.townofnewton.org/event/plan-commission-meeting-2/2022-06-06/
CATEGORIES:Plan Commission
END:VEVENT
BEGIN:VEVENT
DTSTART;TZID=America/Chicago:20220608T170000
DTEND;TZID=America/Chicago:20220608T170000
DTSTAMP:20260420T122944
CREATED:20211123T191039Z
LAST-MODIFIED:20230504T141350Z
UID:10000009-1654707600-1654707600@www.townofnewton.org
SUMMARY:Town Board Meeting
DESCRIPTION:Town Board Meetings are held on the second Wednesday of every month\, unless otherwise posted.
URL:https://www.townofnewton.org/event/town-board-meeting/2022-06-08/
CATEGORIES:Board Meeting
END:VEVENT
BEGIN:VEVENT
DTSTART;VALUE=DATE:20220624
DTEND;VALUE=DATE:20220625
DTSTAMP:20260420T122944
CREATED:20220610T145608Z
LAST-MODIFIED:20220610T145609Z
UID:10000179-1656028800-1656115199@www.townofnewton.org
SUMMARY:Application Deadline for Town Clerk
DESCRIPTION:Town Clerk – Application Deadline\nThe Town of Newton is hiring for the position of Town Clerk.  \nWe are looking for someone who has knowledge of QuickBooks\, computer knowledge and be a self-motivator. The clerk will work very closely with the Town Board. This is a part time position with varying hours. Please send resume with references to:  \nDenise Thomas\, Chairperson\nTown of Newton\n6534 Carstens Lake Road Manitowoc\, WI 54220 \nThe deadline for submitting an application will be June 24\, 2022.
URL:https://www.townofnewton.org/event/application-deadline-for-town-clerk/
CATEGORIES:Application Deadlines
END:VEVENT
BEGIN:VEVENT
DTSTART;TZID=America/Chicago:20220630T173000
DTEND;TZID=America/Chicago:20220630T173000
DTSTAMP:20260420T122944
CREATED:20220628T133619Z
LAST-MODIFIED:20220628T133619Z
UID:10000180-1656610200-1656610200@www.townofnewton.org
SUMMARY:Special Town Board Meeting:  June 30\, 2022 5:30 pm.
DESCRIPTION:The Town of Newton\, Manitowoc County\, WI lists this public notice pursuant to Chapter 19.84 of the Wisconsin Statutes. \nThe Newton Town board will meet at the Newton Town Hall\, 6532 Carstens Lake Road. Manitowoc\, WI on Thursday\, June 30 2022\, at 5:30 PM
URL:https://www.townofnewton.org/event/special-town-board-meeting-june-30-2022-530-pm/
CATEGORIES:Board Meeting
END:VEVENT
END:VCALENDAR