BEGIN:VCALENDAR
VERSION:2.0
PRODID:-//Town of Newton - ECPv6.15.19//NONSGML v1.0//EN
CALSCALE:GREGORIAN
METHOD:PUBLISH
X-ORIGINAL-URL:https://www.townofnewton.org
X-WR-CALDESC:Events for Town of Newton
REFRESH-INTERVAL;VALUE=DURATION:PT1H
X-Robots-Tag:noindex
X-PUBLISHED-TTL:PT1H
BEGIN:VTIMEZONE
TZID:America/Chicago
BEGIN:DAYLIGHT
TZOFFSETFROM:-0600
TZOFFSETTO:-0500
TZNAME:CDT
DTSTART:20230312T080000
END:DAYLIGHT
BEGIN:STANDARD
TZOFFSETFROM:-0500
TZOFFSETTO:-0600
TZNAME:CST
DTSTART:20231105T070000
END:STANDARD
BEGIN:DAYLIGHT
TZOFFSETFROM:-0600
TZOFFSETTO:-0500
TZNAME:CDT
DTSTART:20240310T080000
END:DAYLIGHT
BEGIN:STANDARD
TZOFFSETFROM:-0500
TZOFFSETTO:-0600
TZNAME:CST
DTSTART:20241103T070000
END:STANDARD
BEGIN:DAYLIGHT
TZOFFSETFROM:-0600
TZOFFSETTO:-0500
TZNAME:CDT
DTSTART:20250309T080000
END:DAYLIGHT
BEGIN:STANDARD
TZOFFSETFROM:-0500
TZOFFSETTO:-0600
TZNAME:CST
DTSTART:20251102T070000
END:STANDARD
END:VTIMEZONE
BEGIN:VEVENT
DTSTART;TZID=America/Chicago:20241119T180000
DTEND;TZID=America/Chicago:20241119T180000
DTSTAMP:20260420T045438
CREATED:20241113T184635Z
LAST-MODIFIED:20241113T211911Z
UID:10000289-1732039200-1732039200@www.townofnewton.org
SUMMARY:Community Meeting for Proposed New Fire Station
DESCRIPTION:This is the second community information meeting for the proposed new Fire Station. Please visit our new website page for the project for more information\, including frequently asked questions and answers.
URL:https://www.townofnewton.org/event/community-meeting-for-proposed-new-fire-station/
LOCATION:Newton Town Hall\, 6532 Carstens Lake Road\, Manitowoc\, United States
CATEGORIES:Public Hearing
END:VEVENT
BEGIN:VEVENT
DTSTART;TZID=America/Chicago:20241129T080000
DTEND;TZID=America/Chicago:20241129T080000
DTSTAMP:20260420T045438
CREATED:20241101T022304Z
LAST-MODIFIED:20241114T015204Z
UID:10000285-1732867200-1732867200@www.townofnewton.org
SUMMARY:Public Budget Hearing November 29\, 2024
DESCRIPTION:Please click below to download/view/print the Notice of Public Budget Hearing November 29\, 2024 at 8:00 am at the Newton Town Hall. \nDownload Notice
URL:https://www.townofnewton.org/event/public-budget-hearing-november-29-2024/
LOCATION:Newton Town Hall\, 6532 Carstens Lake Road\, Manitowoc\, United States
CATEGORIES:Public Hearing
END:VEVENT
END:VCALENDAR