BEGIN:VCALENDAR
VERSION:2.0
PRODID:-//Town of Newton - ECPv6.15.19//NONSGML v1.0//EN
CALSCALE:GREGORIAN
METHOD:PUBLISH
X-WR-CALNAME:Town of Newton
X-ORIGINAL-URL:https://www.townofnewton.org
X-WR-CALDESC:Events for Town of Newton
REFRESH-INTERVAL;VALUE=DURATION:PT1H
X-Robots-Tag:noindex
X-PUBLISHED-TTL:PT1H
BEGIN:VTIMEZONE
TZID:America/Chicago
BEGIN:DAYLIGHT
TZOFFSETFROM:-0600
TZOFFSETTO:-0500
TZNAME:CDT
DTSTART:20220313T080000
END:DAYLIGHT
BEGIN:STANDARD
TZOFFSETFROM:-0500
TZOFFSETTO:-0600
TZNAME:CST
DTSTART:20221106T070000
END:STANDARD
BEGIN:DAYLIGHT
TZOFFSETFROM:-0600
TZOFFSETTO:-0500
TZNAME:CDT
DTSTART:20230312T080000
END:DAYLIGHT
BEGIN:STANDARD
TZOFFSETFROM:-0500
TZOFFSETTO:-0600
TZNAME:CST
DTSTART:20231105T070000
END:STANDARD
BEGIN:DAYLIGHT
TZOFFSETFROM:-0600
TZOFFSETTO:-0500
TZNAME:CDT
DTSTART:20240310T080000
END:DAYLIGHT
BEGIN:STANDARD
TZOFFSETFROM:-0500
TZOFFSETTO:-0600
TZNAME:CST
DTSTART:20241103T070000
END:STANDARD
BEGIN:DAYLIGHT
TZOFFSETFROM:-0600
TZOFFSETTO:-0500
TZNAME:CDT
DTSTART:20250309T080000
END:DAYLIGHT
BEGIN:STANDARD
TZOFFSETFROM:-0500
TZOFFSETTO:-0600
TZNAME:CST
DTSTART:20251102T070000
END:STANDARD
BEGIN:DAYLIGHT
TZOFFSETFROM:-0600
TZOFFSETTO:-0500
TZNAME:CDT
DTSTART:20260308T080000
END:DAYLIGHT
BEGIN:STANDARD
TZOFFSETFROM:-0500
TZOFFSETTO:-0600
TZNAME:CST
DTSTART:20261101T070000
END:STANDARD
BEGIN:DAYLIGHT
TZOFFSETFROM:-0600
TZOFFSETTO:-0500
TZNAME:CDT
DTSTART:20270314T080000
END:DAYLIGHT
BEGIN:STANDARD
TZOFFSETFROM:-0500
TZOFFSETTO:-0600
TZNAME:CST
DTSTART:20271107T070000
END:STANDARD
END:VTIMEZONE
BEGIN:VEVENT
DTSTART;TZID=America/Chicago:20230807T180000
DTEND;TZID=America/Chicago:20230807T180000
DTSTAMP:20260421T201716
CREATED:20211128T212608Z
LAST-MODIFIED:20230727T131754Z
UID:10000095-1691431200-1691431200@www.townofnewton.org
SUMMARY:Plan Commission Meeting
DESCRIPTION:The Plan Commission meets the first Monday of each month at 6:00pm\, unless otherwise posted.
URL:https://www.townofnewton.org/event/plan-commission-meeting-2/2023-08-07/
CATEGORIES:Plan Commission
END:VEVENT
BEGIN:VEVENT
DTSTART;TZID=America/Chicago:20230904T180000
DTEND;TZID=America/Chicago:20230904T180000
DTSTAMP:20260421T201716
CREATED:20230823T152956Z
LAST-MODIFIED:20230823T152956Z
UID:10000096-1693850400-1693850400@www.townofnewton.org
SUMMARY:Plan Commission Meeting
DESCRIPTION:The Plan Commission meets the first Monday of each month at 6:00pm\, unless otherwise posted.
URL:https://www.townofnewton.org/event/plan-commission-meeting-3/
CATEGORIES:Plan Commission
END:VEVENT
BEGIN:VEVENT
DTSTART;TZID=America/Chicago:20231009T173000
DTEND;TZID=America/Chicago:20231009T173000
DTSTAMP:20260421T201716
CREATED:20230928T210944Z
LAST-MODIFIED:20230928T211021Z
UID:10000097-1696872600-1696872600@www.townofnewton.org
SUMMARY:Plan Commission Meeting
DESCRIPTION:The Plan Commission meets the first Monday of each month at 6:00pm\, unless otherwise posted.
URL:https://www.townofnewton.org/event/plan-commission-meeting-4/
CATEGORIES:Plan Commission
END:VEVENT
BEGIN:VEVENT
DTSTART;TZID=America/Chicago:20231106T180000
DTEND;TZID=America/Chicago:20231106T180000
DTSTAMP:20260421T201716
CREATED:20211128T212608Z
LAST-MODIFIED:20230727T131754Z
UID:10000098-1699293600-1699293600@www.townofnewton.org
SUMMARY:Plan Commission Meeting
DESCRIPTION:The Plan Commission meets the first Monday of each month at 6:00pm\, unless otherwise posted.
URL:https://www.townofnewton.org/event/plan-commission-meeting-2/2023-11-06/
CATEGORIES:Plan Commission
END:VEVENT
BEGIN:VEVENT
DTSTART;TZID=America/Chicago:20231204T180000
DTEND;TZID=America/Chicago:20231204T180000
DTSTAMP:20260421T201716
CREATED:20211128T212608Z
LAST-MODIFIED:20230727T131754Z
UID:10000099-1701712800-1701712800@www.townofnewton.org
SUMMARY:Plan Commission Meeting
DESCRIPTION:The Plan Commission meets the first Monday of each month at 6:00pm\, unless otherwise posted.
URL:https://www.townofnewton.org/event/plan-commission-meeting-2/2023-12-04/
CATEGORIES:Plan Commission
END:VEVENT
BEGIN:VEVENT
DTSTART;TZID=America/Chicago:20240212T180000
DTEND;TZID=America/Chicago:20240212T180000
DTSTAMP:20260421T201716
CREATED:20240109T214836Z
LAST-MODIFIED:20240109T215059Z
UID:10000101-1707760800-1707760800@www.townofnewton.org
SUMMARY:Plan Commission Meeting
DESCRIPTION:The Plan Commission meets the second Monday of each month at 6:00pm\, unless otherwise posted.
URL:https://www.townofnewton.org/event/plan-commission-meeting-2-2/2024-02-12/
CATEGORIES:Plan Commission
END:VEVENT
BEGIN:VEVENT
DTSTART;TZID=America/Chicago:20240311T180000
DTEND;TZID=America/Chicago:20240311T180000
DTSTAMP:20260421T201716
CREATED:20240221T201525Z
LAST-MODIFIED:20240223T160112Z
UID:10000205-1710180000-1710180000@www.townofnewton.org
SUMMARY:Plan Commission Meeting
DESCRIPTION:The Plan Commission meets the second Monday of each month at 6:00pm\, unless otherwise posted.
URL:https://www.townofnewton.org/event/plan-commission-meeting-7/
CATEGORIES:Plan Commission
END:VEVENT
BEGIN:VEVENT
DTSTART;TZID=America/Chicago:20240410T180000
DTEND;TZID=America/Chicago:20240410T180000
DTSTAMP:20260421T201716
CREATED:20240221T201542Z
LAST-MODIFIED:20240221T201559Z
UID:10000206-1712772000-1712772000@www.townofnewton.org
SUMMARY:Plan Commission Meeting
DESCRIPTION:The Plan Commission meets the second Monday of each month at 6:00pm\, unless otherwise posted.
URL:https://www.townofnewton.org/event/plan-commission-meeting-8/
CATEGORIES:Plan Commission
END:VEVENT
BEGIN:VEVENT
DTSTART;TZID=America/Chicago:20240515T190000
DTEND;TZID=America/Chicago:20240515T190000
DTSTAMP:20260421T201716
CREATED:20240221T201850Z
LAST-MODIFIED:20240221T201911Z
UID:10000207-1715799600-1715799600@www.townofnewton.org
SUMMARY:Plan Commission Meeting
DESCRIPTION:The Plan Commission meets the second Monday of each month at 6:00pm\, unless otherwise posted.
URL:https://www.townofnewton.org/event/plan-commission-meeting-9/
CATEGORIES:Plan Commission
END:VEVENT
BEGIN:VEVENT
DTSTART;TZID=America/Chicago:20240610T180000
DTEND;TZID=America/Chicago:20240610T180000
DTSTAMP:20260421T201716
CREATED:20240109T214836Z
LAST-MODIFIED:20240109T215059Z
UID:10000208-1718042400-1718042400@www.townofnewton.org
SUMMARY:Plan Commission Meeting
DESCRIPTION:The Plan Commission meets the second Monday of each month at 6:00pm\, unless otherwise posted.
URL:https://www.townofnewton.org/event/plan-commission-meeting-2-2/2024-06-10/
CATEGORIES:Plan Commission
END:VEVENT
BEGIN:VEVENT
DTSTART;TZID=America/Chicago:20240708T180000
DTEND;TZID=America/Chicago:20240708T180000
DTSTAMP:20260421T201716
CREATED:20240109T214836Z
LAST-MODIFIED:20240109T215059Z
UID:10000209-1720461600-1720461600@www.townofnewton.org
SUMMARY:Plan Commission Meeting
DESCRIPTION:The Plan Commission meets the second Monday of each month at 6:00pm\, unless otherwise posted.
URL:https://www.townofnewton.org/event/plan-commission-meeting-2-2/2024-07-08/
CATEGORIES:Plan Commission
END:VEVENT
BEGIN:VEVENT
DTSTART;TZID=America/Chicago:20240812T180000
DTEND;TZID=America/Chicago:20240812T180000
DTSTAMP:20260421T201716
CREATED:20240109T214836Z
LAST-MODIFIED:20240109T215059Z
UID:10000210-1723485600-1723485600@www.townofnewton.org
SUMMARY:Plan Commission Meeting
DESCRIPTION:The Plan Commission meets the second Monday of each month at 6:00pm\, unless otherwise posted.
URL:https://www.townofnewton.org/event/plan-commission-meeting-2-2/2024-08-12/
CATEGORIES:Plan Commission
END:VEVENT
BEGIN:VEVENT
DTSTART;TZID=America/Chicago:20240909T180000
DTEND;TZID=America/Chicago:20240909T180000
DTSTAMP:20260421T201716
CREATED:20240109T214836Z
LAST-MODIFIED:20240109T215059Z
UID:10000211-1725904800-1725904800@www.townofnewton.org
SUMMARY:Plan Commission Meeting
DESCRIPTION:The Plan Commission meets the second Monday of each month at 6:00pm\, unless otherwise posted.
URL:https://www.townofnewton.org/event/plan-commission-meeting-2-2/2024-09-09/
CATEGORIES:Plan Commission
END:VEVENT
BEGIN:VEVENT
DTSTART;TZID=America/Chicago:20241014T180000
DTEND;TZID=America/Chicago:20241014T180000
DTSTAMP:20260421T201716
CREATED:20240109T214836Z
LAST-MODIFIED:20240109T215059Z
UID:10000212-1728928800-1728928800@www.townofnewton.org
SUMMARY:Plan Commission Meeting
DESCRIPTION:The Plan Commission meets the second Monday of each month at 6:00pm\, unless otherwise posted.
URL:https://www.townofnewton.org/event/plan-commission-meeting-2-2/2024-10-14/
CATEGORIES:Plan Commission
END:VEVENT
BEGIN:VEVENT
DTSTART;TZID=America/Chicago:20241111T180000
DTEND;TZID=America/Chicago:20241111T180000
DTSTAMP:20260421T201716
CREATED:20240109T214836Z
LAST-MODIFIED:20240109T215059Z
UID:10000213-1731348000-1731348000@www.townofnewton.org
SUMMARY:Plan Commission Meeting
DESCRIPTION:The Plan Commission meets the second Monday of each month at 6:00pm\, unless otherwise posted.
URL:https://www.townofnewton.org/event/plan-commission-meeting-2-2/2024-11-11/
CATEGORIES:Plan Commission
END:VEVENT
BEGIN:VEVENT
DTSTART;TZID=America/Chicago:20241209T180000
DTEND;TZID=America/Chicago:20241209T180000
DTSTAMP:20260421T201716
CREATED:20240109T214836Z
LAST-MODIFIED:20240109T215059Z
UID:10000534-1733767200-1733767200@www.townofnewton.org
SUMMARY:Plan Commission Meeting
DESCRIPTION:The Plan Commission meets the second Monday of each month at 6:00pm\, unless otherwise posted.
URL:https://www.townofnewton.org/event/plan-commission-meeting-2-2/2024-12-09/
CATEGORIES:Plan Commission
END:VEVENT
BEGIN:VEVENT
DTSTART;TZID=America/Chicago:20250113T180000
DTEND;TZID=America/Chicago:20250113T180000
DTSTAMP:20260421T201716
CREATED:20240109T214836Z
LAST-MODIFIED:20240109T215059Z
UID:10000215-1736791200-1736791200@www.townofnewton.org
SUMMARY:Plan Commission Meeting
DESCRIPTION:The Plan Commission meets the second Monday of each month at 6:00pm\, unless otherwise posted.
URL:https://www.townofnewton.org/event/plan-commission-meeting-2-2/2025-01-13/
CATEGORIES:Plan Commission
END:VEVENT
BEGIN:VEVENT
DTSTART;TZID=America/Chicago:20250210T180000
DTEND;TZID=America/Chicago:20250210T180000
DTSTAMP:20260421T201716
CREATED:20240109T214836Z
LAST-MODIFIED:20240109T215059Z
UID:10000216-1739210400-1739210400@www.townofnewton.org
SUMMARY:Plan Commission Meeting
DESCRIPTION:The Plan Commission meets the second Monday of each month at 6:00pm\, unless otherwise posted.
URL:https://www.townofnewton.org/event/plan-commission-meeting-2-2/2025-02-10/
CATEGORIES:Plan Commission
END:VEVENT
BEGIN:VEVENT
DTSTART;TZID=America/Chicago:20250310T180000
DTEND;TZID=America/Chicago:20250310T180000
DTSTAMP:20260421T201716
CREATED:20240109T214836Z
LAST-MODIFIED:20240109T215059Z
UID:10000217-1741629600-1741629600@www.townofnewton.org
SUMMARY:Plan Commission Meeting
DESCRIPTION:The Plan Commission meets the second Monday of each month at 6:00pm\, unless otherwise posted.
URL:https://www.townofnewton.org/event/plan-commission-meeting-2-2/2025-03-10/
CATEGORIES:Plan Commission
END:VEVENT
BEGIN:VEVENT
DTSTART;TZID=America/Chicago:20250414T180000
DTEND;TZID=America/Chicago:20250414T180000
DTSTAMP:20260421T201716
CREATED:20250226T023707Z
LAST-MODIFIED:20250226T023919Z
UID:10000218-1744653600-1744653600@www.townofnewton.org
SUMMARY:Plan Commission Meeting
DESCRIPTION:The Plan Commission meets the second Monday of each month at 6:00pm\, unless otherwise posted. \nFor April 14\, 2025 Plan Commission Meeting: \nDownload/View: Zoning & Land Division Ordinance\, Proposed Amendments Version\, February 10\, 2025
URL:https://www.townofnewton.org/event/plan-commission-meeting-10/
CATEGORIES:Plan Commission
END:VEVENT
BEGIN:VEVENT
DTSTART;TZID=America/Chicago:20250512T180000
DTEND;TZID=America/Chicago:20250512T180000
DTSTAMP:20260421T201716
CREATED:20240109T214836Z
LAST-MODIFIED:20240109T215059Z
UID:10000219-1747072800-1747072800@www.townofnewton.org
SUMMARY:Plan Commission Meeting
DESCRIPTION:The Plan Commission meets the second Monday of each month at 6:00pm\, unless otherwise posted.
URL:https://www.townofnewton.org/event/plan-commission-meeting-2-2/2025-05-12/
CATEGORIES:Plan Commission
END:VEVENT
BEGIN:VEVENT
DTSTART;TZID=America/Chicago:20250609T180000
DTEND;TZID=America/Chicago:20250609T180000
DTSTAMP:20260421T201716
CREATED:20240109T214836Z
LAST-MODIFIED:20240109T215059Z
UID:10000220-1749492000-1749492000@www.townofnewton.org
SUMMARY:Plan Commission Meeting
DESCRIPTION:The Plan Commission meets the second Monday of each month at 6:00pm\, unless otherwise posted.
URL:https://www.townofnewton.org/event/plan-commission-meeting-2-2/2025-06-09/
CATEGORIES:Plan Commission
END:VEVENT
BEGIN:VEVENT
DTSTART;TZID=America/Chicago:20250714T180000
DTEND;TZID=America/Chicago:20250714T180000
DTSTAMP:20260421T201716
CREATED:20240109T214836Z
LAST-MODIFIED:20240109T215059Z
UID:10000221-1752516000-1752516000@www.townofnewton.org
SUMMARY:Plan Commission Meeting
DESCRIPTION:The Plan Commission meets the second Monday of each month at 6:00pm\, unless otherwise posted.
URL:https://www.townofnewton.org/event/plan-commission-meeting-2-2/2025-07-14/
CATEGORIES:Plan Commission
END:VEVENT
BEGIN:VEVENT
DTSTART;TZID=America/Chicago:20250811T180000
DTEND;TZID=America/Chicago:20250811T180000
DTSTAMP:20260421T201716
CREATED:20240109T214836Z
LAST-MODIFIED:20240109T215059Z
UID:10000222-1754935200-1754935200@www.townofnewton.org
SUMMARY:Plan Commission Meeting
DESCRIPTION:The Plan Commission meets the second Monday of each month at 6:00pm\, unless otherwise posted.
URL:https://www.townofnewton.org/event/plan-commission-meeting-2-2/2025-08-11/
CATEGORIES:Plan Commission
END:VEVENT
BEGIN:VEVENT
DTSTART;TZID=America/Chicago:20250908T180000
DTEND;TZID=America/Chicago:20250908T180000
DTSTAMP:20260421T201716
CREATED:20240109T214836Z
LAST-MODIFIED:20240109T215059Z
UID:10000223-1757354400-1757354400@www.townofnewton.org
SUMMARY:Plan Commission Meeting
DESCRIPTION:The Plan Commission meets the second Monday of each month at 6:00pm\, unless otherwise posted.
URL:https://www.townofnewton.org/event/plan-commission-meeting-2-2/2025-09-08/
CATEGORIES:Plan Commission
END:VEVENT
BEGIN:VEVENT
DTSTART;TZID=America/Chicago:20251013T180000
DTEND;TZID=America/Chicago:20251013T180000
DTSTAMP:20260421T201716
CREATED:20240109T214836Z
LAST-MODIFIED:20240109T215059Z
UID:10000224-1760378400-1760378400@www.townofnewton.org
SUMMARY:Plan Commission Meeting
DESCRIPTION:The Plan Commission meets the second Monday of each month at 6:00pm\, unless otherwise posted.
URL:https://www.townofnewton.org/event/plan-commission-meeting-2-2/2025-10-13/
CATEGORIES:Plan Commission
END:VEVENT
BEGIN:VEVENT
DTSTART;TZID=America/Chicago:20251110T180000
DTEND;TZID=America/Chicago:20251110T180000
DTSTAMP:20260421T201716
CREATED:20240109T214836Z
LAST-MODIFIED:20240109T215059Z
UID:10000225-1762797600-1762797600@www.townofnewton.org
SUMMARY:Plan Commission Meeting
DESCRIPTION:The Plan Commission meets the second Monday of each month at 6:00pm\, unless otherwise posted.
URL:https://www.townofnewton.org/event/plan-commission-meeting-2-2/2025-11-10/
CATEGORIES:Plan Commission
END:VEVENT
BEGIN:VEVENT
DTSTART;TZID=America/Chicago:20251208T180000
DTEND;TZID=America/Chicago:20251208T180000
DTSTAMP:20260421T201716
CREATED:20240109T214836Z
LAST-MODIFIED:20240109T215059Z
UID:10000226-1765216800-1765216800@www.townofnewton.org
SUMMARY:Plan Commission Meeting
DESCRIPTION:The Plan Commission meets the second Monday of each month at 6:00pm\, unless otherwise posted.
URL:https://www.townofnewton.org/event/plan-commission-meeting-2-2/2025-12-08/
CATEGORIES:Plan Commission
END:VEVENT
BEGIN:VEVENT
DTSTART;TZID=America/Chicago:20260309T180000
DTEND;TZID=America/Chicago:20260309T180000
DTSTAMP:20260421T201716
CREATED:20240109T214836Z
LAST-MODIFIED:20240109T215059Z
UID:10000229-1773079200-1773079200@www.townofnewton.org
SUMMARY:Plan Commission Meeting
DESCRIPTION:The Plan Commission meets the second Monday of each month at 6:00pm\, unless otherwise posted.
URL:https://www.townofnewton.org/event/plan-commission-meeting-2-2/2026-03-09/
CATEGORIES:Plan Commission
END:VEVENT
BEGIN:VEVENT
DTSTART;TZID=America/Chicago:20260413T180000
DTEND;TZID=America/Chicago:20260413T180000
DTSTAMP:20260421T201716
CREATED:20240109T214836Z
LAST-MODIFIED:20240109T215059Z
UID:10000230-1776103200-1776103200@www.townofnewton.org
SUMMARY:Plan Commission Meeting
DESCRIPTION:The Plan Commission meets the second Monday of each month at 6:00pm\, unless otherwise posted.
URL:https://www.townofnewton.org/event/plan-commission-meeting-2-2/2026-04-13/
CATEGORIES:Plan Commission
END:VEVENT
END:VCALENDAR