BEGIN:VCALENDAR
VERSION:2.0
PRODID:-//Town of Newton - ECPv6.15.19//NONSGML v1.0//EN
CALSCALE:GREGORIAN
METHOD:PUBLISH
X-ORIGINAL-URL:https://www.townofnewton.org
X-WR-CALDESC:Events for Town of Newton
REFRESH-INTERVAL;VALUE=DURATION:PT1H
X-Robots-Tag:noindex
X-PUBLISHED-TTL:PT1H
BEGIN:VTIMEZONE
TZID:America/Chicago
BEGIN:DAYLIGHT
TZOFFSETFROM:-0600
TZOFFSETTO:-0500
TZNAME:CDT
DTSTART:20220313T080000
END:DAYLIGHT
BEGIN:STANDARD
TZOFFSETFROM:-0500
TZOFFSETTO:-0600
TZNAME:CST
DTSTART:20221106T070000
END:STANDARD
BEGIN:DAYLIGHT
TZOFFSETFROM:-0600
TZOFFSETTO:-0500
TZNAME:CDT
DTSTART:20230312T080000
END:DAYLIGHT
BEGIN:STANDARD
TZOFFSETFROM:-0500
TZOFFSETTO:-0600
TZNAME:CST
DTSTART:20231105T070000
END:STANDARD
BEGIN:DAYLIGHT
TZOFFSETFROM:-0600
TZOFFSETTO:-0500
TZNAME:CDT
DTSTART:20240310T080000
END:DAYLIGHT
BEGIN:STANDARD
TZOFFSETFROM:-0500
TZOFFSETTO:-0600
TZNAME:CST
DTSTART:20241103T070000
END:STANDARD
END:VTIMEZONE
BEGIN:VEVENT
DTSTART;TZID=America/Chicago:20230710T180000
DTEND;TZID=America/Chicago:20230710T180000
DTSTAMP:20260420T214642
CREATED:20230627T143800Z
LAST-MODIFIED:20230627T144236Z
UID:10000094-1689012000-1689012000@www.townofnewton.org
SUMMARY:Planning Committee Meeting
DESCRIPTION:Site Visit: 5:30 PM \nSite Location: 2784 CTH CR \nMeeting Time: 6:00 PM \nLocation: 6532 Carstens Lake Road\, Manitowoc WI \n\n\n\n\n\n\n  \nAGENDA: \n\n\n\n\n\n\n\n\n\n\n\n\n1. Call to Order/Roll Call\n2. Verification of Public Notice\n3. Approval of Agenda\n4. Approval of previous meeting minutes\n5. Public Input\n6. Nick Eichmann\, 3935 CTH C. proposed change to the Certified Survey Map in the NW1/4 of the NW1/4\, Section 25.\n7. Jeff DeZeeuw\, Corner Point Surveying\, questions concerning a parcel split in the SW1/4 of the\nSE1/4\, Section 11\n8. A Public Hearing for Tim and Jacob Hauschultz to operate an automotive and car\ndetailing business located at 2784 CTH CR. \n\n\n\n\n\n\n\n\n\n\nPUBLIC HEARING \n\nOpen Public Hearing\nApplicant Comments\nPublic Input\nCorrespondence\nClose Public Hearing\nPlan Commission Discussion and Action
URL:https://www.townofnewton.org/event/planning-committee-meeting-2/
CATEGORIES:Plan Commission
END:VEVENT
BEGIN:VEVENT
DTSTART;TZID=America/Chicago:20230724T180000
DTEND;TZID=America/Chicago:20230724T180000
DTSTAMP:20260420T214642
CREATED:20230713T163158Z
LAST-MODIFIED:20230727T131418Z
UID:10000192-1690221600-1690221600@www.townofnewton.org
SUMMARY:Plan Commission Meeting
DESCRIPTION:  \nTo: Plan Commission Town Board\nFrom: Zoning Administrator\nSubject: Plan Commission Meeting: July 24th 2023\nLocation: 6532 Carstens Lake Road\, Manitowoc WI\nMeeting Time: 6:00 PM \nAGENDA \n1. Call to Order/Roll Call\n2. Verification of Public Notice\n3. Approval of Agenda\n4. Approval of Previous Meeting Minutes\n5. Public Input\n6. Gene Hartlaub et al\, discussion and action on a possible change to the Certified Survey\nMap on a 14.876-acre parcel located at 5815 CTH LS\n7. Jeff DeZeeuw\, Corner Point Surveying\, questions concerning a parcel split in the SW1/4\nof the SE1/4\, Section 11.\n8\, Ken Jaworski\, Cedar Corp\, discussion pertaining to the repeal of maximum lot size\,\nportable storage containers\, permitted vs Conditional Use Permit in Section 14.01 Land\nUse Table\, and solar energy planning approach and concepts.\n9. Deb Reis\, discussion on the roles of the Zoning Board of Adjustment/Appeals and\nPlanning Commission after viewing the webinar recommended to Plan Comm members by\nKen Jaworski.
URL:https://www.townofnewton.org/event/plan-commission-meeting/
CATEGORIES:Plan Commission
END:VEVENT
END:VCALENDAR