BEGIN:VCALENDAR
VERSION:2.0
PRODID:-//Town of Newton - ECPv6.15.19//NONSGML v1.0//EN
CALSCALE:GREGORIAN
METHOD:PUBLISH
X-WR-CALNAME:Town of Newton
X-ORIGINAL-URL:https://www.townofnewton.org
X-WR-CALDESC:Events for Town of Newton
REFRESH-INTERVAL;VALUE=DURATION:PT1H
X-Robots-Tag:noindex
X-PUBLISHED-TTL:PT1H
BEGIN:VTIMEZONE
TZID:America/Chicago
BEGIN:DAYLIGHT
TZOFFSETFROM:-0600
TZOFFSETTO:-0500
TZNAME:CDT
DTSTART:20220313T080000
END:DAYLIGHT
BEGIN:STANDARD
TZOFFSETFROM:-0500
TZOFFSETTO:-0600
TZNAME:CST
DTSTART:20221106T070000
END:STANDARD
BEGIN:DAYLIGHT
TZOFFSETFROM:-0600
TZOFFSETTO:-0500
TZNAME:CDT
DTSTART:20230312T080000
END:DAYLIGHT
BEGIN:STANDARD
TZOFFSETFROM:-0500
TZOFFSETTO:-0600
TZNAME:CST
DTSTART:20231105T070000
END:STANDARD
BEGIN:DAYLIGHT
TZOFFSETFROM:-0600
TZOFFSETTO:-0500
TZNAME:CDT
DTSTART:20240310T080000
END:DAYLIGHT
BEGIN:STANDARD
TZOFFSETFROM:-0500
TZOFFSETTO:-0600
TZNAME:CST
DTSTART:20241103T070000
END:STANDARD
BEGIN:DAYLIGHT
TZOFFSETFROM:-0600
TZOFFSETTO:-0500
TZNAME:CDT
DTSTART:20250309T080000
END:DAYLIGHT
BEGIN:STANDARD
TZOFFSETFROM:-0500
TZOFFSETTO:-0600
TZNAME:CST
DTSTART:20251102T070000
END:STANDARD
BEGIN:DAYLIGHT
TZOFFSETFROM:-0600
TZOFFSETTO:-0500
TZNAME:CDT
DTSTART:20260308T080000
END:DAYLIGHT
BEGIN:STANDARD
TZOFFSETFROM:-0500
TZOFFSETTO:-0600
TZNAME:CST
DTSTART:20261101T070000
END:STANDARD
END:VTIMEZONE
BEGIN:VEVENT
DTSTART;TZID=America/Chicago:20230417T180000
DTEND;TZID=America/Chicago:20230417T180000
DTSTAMP:20260423T042016
CREATED:20211123T191039Z
LAST-MODIFIED:20230406T143325Z
UID:10000081-1681754400-1681754400@www.townofnewton.org
SUMMARY:Town Board Meeting
DESCRIPTION:Town Board Meetings are held on the second Wednesday of every month\, unless otherwise posted.
URL:https://www.townofnewton.org/event/town-board-meeting-2023-04-12/
CATEGORIES:Board Meeting
END:VEVENT
BEGIN:VEVENT
DTSTART;TZID=America/Chicago:20230510T170000
DTEND;TZID=America/Chicago:20230510T170000
DTSTAMP:20260423T042016
CREATED:20211123T191039Z
LAST-MODIFIED:20230504T141350Z
UID:10000013-1683738000-1683738000@www.townofnewton.org
SUMMARY:Town Board Meeting
DESCRIPTION:Town Board Meetings are held on the second Wednesday of every month\, unless otherwise posted.
URL:https://www.townofnewton.org/event/town-board-meeting/2023-05-10/
CATEGORIES:Board Meeting
END:VEVENT
BEGIN:VEVENT
DTSTART;TZID=America/Chicago:20230517T160000
DTEND;TZID=America/Chicago:20230517T160000
DTSTAMP:20260423T042016
CREATED:20230512T171409Z
LAST-MODIFIED:20230512T171535Z
UID:10000188-1684339200-1684339200@www.townofnewton.org
SUMMARY:Town Board Meeting
DESCRIPTION:Town Board Meetings are held on the second Wednesday of every month unless otherwise posted. \nTOWN BOARD MEETING: May 17\, 2023 at 4:00 PM. \nTown Board Members:\nDenise Thomas\, Chairman\nKevin Behnke\, Supervisor #1\nKelly Christiansen\, Supervisor #2\nAlyssa Grotegut\, Clerk\nPaulette Vogt\, Treasurer\nThe Town of Newton\, Manitowoc County\, WI lists this public notice pursuant to Chapter 19.84 of the\nWisconsin Statutes.\nThe Newton Town board will meet at the Newton Town Hall\, 6532 Carstens Lake Road. Manitowoc\, WI\non May 17\, 2023\, at 4:00 PM\nAGENDA:\n1. Call to order.\n2. Pledge of Allegiance.\n3. Roll Call\n4. Verification of posting &amp; affidavit.\n5. Culvert Bids and 2023 Road Projects Discussion/Action\n6. Adjourn\nPersons with disabilities who need accommodations to attend the meeting should contact the Town\nClerk’s Office by calling (920) 758-2656 as soon as possible so that needs can be reasonably met.
URL:https://www.townofnewton.org/event/town-board-meeting-5/
CATEGORIES:Board Meeting
END:VEVENT
BEGIN:VEVENT
DTSTART;TZID=America/Chicago:20230531T160000
DTEND;TZID=America/Chicago:20230531T160000
DTSTAMP:20260423T042016
CREATED:20230524T174656Z
LAST-MODIFIED:20230524T174656Z
UID:10000189-1685548800-1685548800@www.townofnewton.org
SUMMARY:Town Board Meeting
DESCRIPTION:Town Board Meetings are held on the second Wednesday of every month unless otherwise posted. \nTOWN BOARD MEETING: May 31\, 2023 at 4:00 PM. \nTown Board Members:\nDenise Thomas\, Chairman\nKevin Behnke\, Supervisor #1\nKelly Christiansen\, Supervisor #2\nAlyssa Grotegut\, Clerk\nPaulette Vogt\, Treasurer\nThe Town of Newton\, Manitowoc County\, WI lists this public notice pursuant to Chapter 19.84 of the\nWisconsin Statutes.\nThe Newton Town board will meet at the Newton Town Hall\, 6532 Carstens Lake Road. Manitowoc\, WI\non May 17\, 2023\, at 4:00 PM\nAGENDA:\n1. Call to order.\n2. Pledge of Allegiance.\n3. Roll Call\n4. Verification of posting &amp; affidavit.\n5. Culvert Bids and 2023 Road Projects\, Ditch problem at Lori Edwards property Discussion/Action\n6. Adjourn\nPersons with disabilities who need accommodations to attend the meeting should contact the Town\nClerk’s Office by calling (920) 758-2656 as soon as possible so that needs can be reasonably met.
URL:https://www.townofnewton.org/event/town-board-meeting-6/
CATEGORIES:Board Meeting
END:VEVENT
BEGIN:VEVENT
DTSTART;TZID=America/Chicago:20230614T170000
DTEND;TZID=America/Chicago:20230614T170000
DTSTAMP:20260423T042016
CREATED:20211123T191039Z
LAST-MODIFIED:20230504T141350Z
UID:10000014-1686762000-1686762000@www.townofnewton.org
SUMMARY:Town Board Meeting
DESCRIPTION:Town Board Meetings are held on the second Wednesday of every month\, unless otherwise posted.
URL:https://www.townofnewton.org/event/town-board-meeting/2023-06-14/
CATEGORIES:Board Meeting
END:VEVENT
BEGIN:VEVENT
DTSTART;TZID=America/Chicago:20230712T170000
DTEND;TZID=America/Chicago:20230712T170000
DTSTAMP:20260423T042016
CREATED:20230710T202108Z
LAST-MODIFIED:20230711T170307Z
UID:10000015-1689181200-1689181200@www.townofnewton.org
SUMMARY:Town Board Meeting
DESCRIPTION:Town Board Members:\nDenise Thomas\, Chairman\nKevin Behnke\, Supervisor #1\nKelly Christiansen Supervisor #2\nAlyssa Grotegut\, Clerk\nPaulette Vogt\, Treasurer\nThe Town of Newton\, Manitowoc County\, WI lists this public notice pursuant to Chapter 19.84 of the Wisconsin\nStatutes. The Newton Town Board will meet at the Newton Town Hall\, 6532 Carstens Lake Road\, Manitowoc\, WI on\nJuly 12\, 2023\, at 5:00 PM.\nAGENDA: Monthly Meeting\n1. Call to order\n2. Pledge of Allegiance\n3. Roll Call\n4. Verification of posting &amp; affidavit\n5. Motion to approve agenda\n6. Acceptance of previous meeting minutes\n7. Acceptance of treasurer’s report\n8. Public Input\n9. Road Supervisor\n10. Law Enforcement\n11. Zoning Administrator Report\n12. Supervisor #1:\nRecycling Center Updates Discussion/Action\nDigital Sign Discussion/Action\nOther Town Information Discussion/Action\n13. Supervisor #2:\nFuture Building Updates Discussion/Action\nOrchard Road Discussion/Action\n14. Chairman:\nWebsite Discussion/Action\nEnglish Lake High Water Mark No Wake Discussion/Action\nInsurance Renewal Discussion/Action\n15. Clerk’s Report\nSubmission of statements and statement report for approval by the Board\nCorrespondence.\nNext Town Board Meeting will be held. August 9\, 2023 at 5:00 PM
URL:https://www.townofnewton.org/event/town-board-meeting-7/
CATEGORIES:Board Meeting
END:VEVENT
BEGIN:VEVENT
DTSTART;TZID=America/Chicago:20230809T170000
DTEND;TZID=America/Chicago:20230809T170000
DTSTAMP:20260423T042016
CREATED:20211123T191039Z
LAST-MODIFIED:20230504T141350Z
UID:10000016-1691600400-1691600400@www.townofnewton.org
SUMMARY:Town Board Meeting
DESCRIPTION:Town Board Meetings are held on the second Wednesday of every month\, unless otherwise posted.
URL:https://www.townofnewton.org/event/town-board-meeting/2023-08-09/
CATEGORIES:Board Meeting
END:VEVENT
BEGIN:VEVENT
DTSTART;TZID=America/Chicago:20230907T170000
DTEND;TZID=America/Chicago:20230907T170000
DTSTAMP:20260423T042016
CREATED:20230823T153044Z
LAST-MODIFIED:20230823T153137Z
UID:10000017-1694106000-1694106000@www.townofnewton.org
SUMMARY:Town Board Meeting
DESCRIPTION:Town Board Meetings are held on the second Wednesday of every month\, unless otherwise posted.
URL:https://www.townofnewton.org/event/town-board-meeting-8/
CATEGORIES:Board Meeting
END:VEVENT
BEGIN:VEVENT
DTSTART;TZID=America/Chicago:20231005T163000
DTEND;TZID=America/Chicago:20231005T163000
DTSTAMP:20260423T042016
CREATED:20230928T210659Z
LAST-MODIFIED:20230928T210835Z
UID:10000018-1696523400-1696523400@www.townofnewton.org
SUMMARY:Town Board Meeting
DESCRIPTION:Town Board Meetings are held on the second Wednesday of every month\, unless otherwise posted.
URL:https://www.townofnewton.org/event/town-board-meeting-9/
CATEGORIES:Board Meeting
END:VEVENT
BEGIN:VEVENT
DTSTART;TZID=America/Chicago:20231108T170000
DTEND;TZID=America/Chicago:20231108T170000
DTSTAMP:20260423T042016
CREATED:20211123T191039Z
LAST-MODIFIED:20230504T141350Z
UID:10000019-1699462800-1699462800@www.townofnewton.org
SUMMARY:Town Board Meeting
DESCRIPTION:Town Board Meetings are held on the second Wednesday of every month\, unless otherwise posted.
URL:https://www.townofnewton.org/event/town-board-meeting/2023-11-08/
CATEGORIES:Board Meeting
END:VEVENT
BEGIN:VEVENT
DTSTART;TZID=America/Chicago:20231213T170000
DTEND;TZID=America/Chicago:20231213T170000
DTSTAMP:20260423T042016
CREATED:20211123T191039Z
LAST-MODIFIED:20230504T141350Z
UID:10000020-1702486800-1702486800@www.townofnewton.org
SUMMARY:Town Board Meeting
DESCRIPTION:Town Board Meetings are held on the second Wednesday of every month\, unless otherwise posted.
URL:https://www.townofnewton.org/event/town-board-meeting/2023-12-13/
CATEGORIES:Board Meeting
END:VEVENT
BEGIN:VEVENT
DTSTART;TZID=America/Chicago:20240110T170000
DTEND;TZID=America/Chicago:20240110T170000
DTSTAMP:20260423T042016
CREATED:20211123T191039Z
LAST-MODIFIED:20230504T141350Z
UID:10000021-1704906000-1704906000@www.townofnewton.org
SUMMARY:Town Board Meeting
DESCRIPTION:Town Board Meetings are held on the second Wednesday of every month\, unless otherwise posted.
URL:https://www.townofnewton.org/event/town-board-meeting/2024-01-10/
CATEGORIES:Board Meeting
END:VEVENT
BEGIN:VEVENT
DTSTART;TZID=America/Chicago:20240214T170000
DTEND;TZID=America/Chicago:20240214T170000
DTSTAMP:20260423T042016
CREATED:20211123T191039Z
LAST-MODIFIED:20230504T141350Z
UID:10000022-1707930000-1707930000@www.townofnewton.org
SUMMARY:Town Board Meeting
DESCRIPTION:Town Board Meetings are held on the second Wednesday of every month\, unless otherwise posted.
URL:https://www.townofnewton.org/event/town-board-meeting/2024-02-14/
CATEGORIES:Board Meeting
END:VEVENT
BEGIN:VEVENT
DTSTART;TZID=America/Chicago:20240320T170000
DTEND;TZID=America/Chicago:20240320T170000
DTSTAMP:20260423T042016
CREATED:20240214T033553Z
LAST-MODIFIED:20240214T033605Z
UID:10000023-1710954000-1710954000@www.townofnewton.org
SUMMARY:Town Board Meeting
DESCRIPTION:Town Board Meetings are held on the second Wednesday of every month\, unless otherwise posted.
URL:https://www.townofnewton.org/event/town-board-meeting-10/
CATEGORIES:Board Meeting
END:VEVENT
BEGIN:VEVENT
DTSTART;TZID=America/Chicago:20240415T170000
DTEND;TZID=America/Chicago:20240415T170000
DTSTAMP:20260423T042016
CREATED:20240214T033631Z
LAST-MODIFIED:20240214T033645Z
UID:10000024-1713200400-1713200400@www.townofnewton.org
SUMMARY:Town Board Meeting
DESCRIPTION:Town Board Meetings are held on the second Wednesday of every month\, unless otherwise posted.
URL:https://www.townofnewton.org/event/town-board-meeting-11/
CATEGORIES:Board Meeting
END:VEVENT
BEGIN:VEVENT
DTSTART;TZID=America/Chicago:20240416T180000
DTEND;TZID=America/Chicago:20240416T180000
DTSTAMP:20260423T042016
CREATED:20240214T033814Z
LAST-MODIFIED:20240221T215314Z
UID:10000268-1713290400-1713290400@www.townofnewton.org
SUMMARY:Town of Newton Annual Meeting
DESCRIPTION:A chicken dinner will be served at 6:00 pm with the meeting to follow at 7:00 pm.\nAll town residents are invited to attend\, and there is no cost for the meal.
URL:https://www.townofnewton.org/event/town-of-newton-annual-meeting/
CATEGORIES:Board Meeting,Town Event
END:VEVENT
BEGIN:VEVENT
DTSTART;TZID=America/Chicago:20240515T170000
DTEND;TZID=America/Chicago:20240515T170000
DTSTAMP:20260423T042016
CREATED:20240416T212712Z
LAST-MODIFIED:20240416T212728Z
UID:10000025-1715792400-1715792400@www.townofnewton.org
SUMMARY:Town Board Meeting
DESCRIPTION:Town Board Meetings are held on the second Wednesday of every month\, unless otherwise posted.
URL:https://www.townofnewton.org/event/town-board-meeting-13/
CATEGORIES:Board Meeting
END:VEVENT
BEGIN:VEVENT
DTSTART;TZID=America/Chicago:20240612T170000
DTEND;TZID=America/Chicago:20240612T170000
DTSTAMP:20260423T042016
CREATED:20211123T191039Z
LAST-MODIFIED:20230504T141350Z
UID:10000026-1718211600-1718211600@www.townofnewton.org
SUMMARY:Town Board Meeting
DESCRIPTION:Town Board Meetings are held on the second Wednesday of every month\, unless otherwise posted.
URL:https://www.townofnewton.org/event/town-board-meeting/2024-06-12/
CATEGORIES:Board Meeting
END:VEVENT
BEGIN:VEVENT
DTSTART;TZID=America/Chicago:20240710T170000
DTEND;TZID=America/Chicago:20240710T170000
DTSTAMP:20260423T042016
CREATED:20211123T191039Z
LAST-MODIFIED:20230504T141350Z
UID:10000027-1720630800-1720630800@www.townofnewton.org
SUMMARY:Town Board Meeting
DESCRIPTION:Town Board Meetings are held on the second Wednesday of every month\, unless otherwise posted.
URL:https://www.townofnewton.org/event/town-board-meeting/2024-07-10/
CATEGORIES:Board Meeting
END:VEVENT
BEGIN:VEVENT
DTSTART;TZID=America/Chicago:20240807T170000
DTEND;TZID=America/Chicago:20240807T170000
DTSTAMP:20260423T042016
CREATED:20240724T173710Z
LAST-MODIFIED:20240724T173733Z
UID:10000028-1723050000-1723050000@www.townofnewton.org
SUMMARY:Town Board Meeting
DESCRIPTION:Town Board Meetings are held on the second Wednesday of every month\, unless otherwise posted.
URL:https://www.townofnewton.org/event/town-board-meeting-14/
CATEGORIES:Board Meeting
END:VEVENT
BEGIN:VEVENT
DTSTART;TZID=America/Chicago:20240911T170000
DTEND;TZID=America/Chicago:20240911T170000
DTSTAMP:20260423T042016
CREATED:20211123T191039Z
LAST-MODIFIED:20230504T141350Z
UID:10000029-1726074000-1726074000@www.townofnewton.org
SUMMARY:Town Board Meeting
DESCRIPTION:Town Board Meetings are held on the second Wednesday of every month\, unless otherwise posted.
URL:https://www.townofnewton.org/event/town-board-meeting/2024-09-11/
CATEGORIES:Board Meeting
END:VEVENT
BEGIN:VEVENT
DTSTART;TZID=America/Chicago:20241009T170000
DTEND;TZID=America/Chicago:20241009T170000
DTSTAMP:20260423T042016
CREATED:20211123T191039Z
LAST-MODIFIED:20230504T141350Z
UID:10000030-1728493200-1728493200@www.townofnewton.org
SUMMARY:Town Board Meeting
DESCRIPTION:Town Board Meetings are held on the second Wednesday of every month\, unless otherwise posted.
URL:https://www.townofnewton.org/event/town-board-meeting/2024-10-09/
CATEGORIES:Board Meeting
END:VEVENT
BEGIN:VEVENT
DTSTART;TZID=America/Chicago:20241113T170000
DTEND;TZID=America/Chicago:20241113T170000
DTSTAMP:20260423T042016
CREATED:20211123T191039Z
LAST-MODIFIED:20230504T141350Z
UID:10000031-1731517200-1731517200@www.townofnewton.org
SUMMARY:Town Board Meeting
DESCRIPTION:Town Board Meetings are held on the second Wednesday of every month\, unless otherwise posted.
URL:https://www.townofnewton.org/event/town-board-meeting/2024-11-13/
CATEGORIES:Board Meeting
END:VEVENT
BEGIN:VEVENT
DTSTART;TZID=America/Chicago:20241218T170000
DTEND;TZID=America/Chicago:20241218T170000
DTSTAMP:20260423T042016
CREATED:20241113T184031Z
LAST-MODIFIED:20241113T184041Z
UID:10000032-1734541200-1734541200@www.townofnewton.org
SUMMARY:Town Board Meeting
DESCRIPTION:Town Board Meetings are held on the second Wednesday of every month\, unless otherwise posted.
URL:https://www.townofnewton.org/event/town-board-meeting-15/
CATEGORIES:Board Meeting
END:VEVENT
BEGIN:VEVENT
DTSTART;TZID=America/Chicago:20250108T170000
DTEND;TZID=America/Chicago:20250108T170000
DTSTAMP:20260423T042016
CREATED:20211123T191039Z
LAST-MODIFIED:20230504T141350Z
UID:10000033-1736355600-1736355600@www.townofnewton.org
SUMMARY:Town Board Meeting
DESCRIPTION:Town Board Meetings are held on the second Wednesday of every month\, unless otherwise posted.
URL:https://www.townofnewton.org/event/town-board-meeting/2025-01-08/
CATEGORIES:Board Meeting
END:VEVENT
BEGIN:VEVENT
DTSTART;TZID=America/Chicago:20250212T170000
DTEND;TZID=America/Chicago:20250212T170000
DTSTAMP:20260423T042016
CREATED:20211123T191039Z
LAST-MODIFIED:20230504T141350Z
UID:10000034-1739379600-1739379600@www.townofnewton.org
SUMMARY:Town Board Meeting
DESCRIPTION:Town Board Meetings are held on the second Wednesday of every month\, unless otherwise posted.
URL:https://www.townofnewton.org/event/town-board-meeting/2025-02-12/
CATEGORIES:Board Meeting
END:VEVENT
BEGIN:VEVENT
DTSTART;TZID=America/Chicago:20250305T170000
DTEND;TZID=America/Chicago:20250305T170000
DTSTAMP:20260423T042016
CREATED:20250219T185220Z
LAST-MODIFIED:20250219T185231Z
UID:10000474-1741194000-1741194000@www.townofnewton.org
SUMMARY:Town Board Meeting
DESCRIPTION:Town Board Meetings are held on the second Wednesday of every month\, unless otherwise posted.
URL:https://www.townofnewton.org/event/town-board-meeting-18/
CATEGORIES:Board Meeting
END:VEVENT
BEGIN:VEVENT
DTSTART;TZID=America/Chicago:20250414T170000
DTEND;TZID=America/Chicago:20250414T170000
DTSTAMP:20260423T042016
CREATED:20250210T153841Z
LAST-MODIFIED:20250210T153906Z
UID:10000036-1744650000-1744650000@www.townofnewton.org
SUMMARY:Town Board Meeting
DESCRIPTION:Town Board Meetings are held on the second Wednesday of every month\, unless otherwise posted.
URL:https://www.townofnewton.org/event/town-board-meeting-16/
CATEGORIES:Board Meeting
END:VEVENT
BEGIN:VEVENT
DTSTART;TZID=America/Chicago:20250415T180000
DTEND;TZID=America/Chicago:20250415T180000
DTSTAMP:20260423T042016
CREATED:20250210T153314Z
LAST-MODIFIED:20250210T153314Z
UID:10000292-1744740000-1744740000@www.townofnewton.org
SUMMARY:Town of Newton Annual Meeting
DESCRIPTION:A chicken dinner will be served at 6:00 pm with the meeting to follow at 7:00 pm.\nAll town residents are invited to attend\, and there is no cost for the meal.
URL:https://www.townofnewton.org/event/town-of-newton-annual-meeting-2/
CATEGORIES:Board Meeting,Town Event
END:VEVENT
BEGIN:VEVENT
DTSTART;TZID=America/Chicago:20250514T180000
DTEND;TZID=America/Chicago:20250514T180000
DTSTAMP:20260423T042016
CREATED:20250309T174003Z
LAST-MODIFIED:20250309T174846Z
UID:10000475-1747245600-1747245600@www.townofnewton.org
SUMMARY:Town Board Meeting
DESCRIPTION:The May 14\, 2025 Town Board Meeting will be held following the Board of Review\, which is scheduled from 4:00 pm – 6:00 pm. \nTown Board Meetings are held on the second Wednesday of every month\, unless otherwise posted.
URL:https://www.townofnewton.org/event/town-board-meeting-19/
CATEGORIES:Board Meeting
END:VEVENT
END:VCALENDAR