BEGIN:VCALENDAR
VERSION:2.0
PRODID:-//Town of Newton - ECPv6.15.19//NONSGML v1.0//EN
CALSCALE:GREGORIAN
METHOD:PUBLISH
X-WR-CALNAME:Town of Newton
X-ORIGINAL-URL:https://www.townofnewton.org
X-WR-CALDESC:Events for Town of Newton
REFRESH-INTERVAL;VALUE=DURATION:PT1H
X-Robots-Tag:noindex
X-PUBLISHED-TTL:PT1H
BEGIN:VTIMEZONE
TZID:America/Chicago
BEGIN:DAYLIGHT
TZOFFSETFROM:-0600
TZOFFSETTO:-0500
TZNAME:CDT
DTSTART:20210314T080000
END:DAYLIGHT
BEGIN:STANDARD
TZOFFSETFROM:-0500
TZOFFSETTO:-0600
TZNAME:CST
DTSTART:20211107T070000
END:STANDARD
BEGIN:DAYLIGHT
TZOFFSETFROM:-0600
TZOFFSETTO:-0500
TZNAME:CDT
DTSTART:20220313T080000
END:DAYLIGHT
BEGIN:STANDARD
TZOFFSETFROM:-0500
TZOFFSETTO:-0600
TZNAME:CST
DTSTART:20221106T070000
END:STANDARD
BEGIN:DAYLIGHT
TZOFFSETFROM:-0600
TZOFFSETTO:-0500
TZNAME:CDT
DTSTART:20230312T080000
END:DAYLIGHT
BEGIN:STANDARD
TZOFFSETFROM:-0500
TZOFFSETTO:-0600
TZNAME:CST
DTSTART:20231105T070000
END:STANDARD
END:VTIMEZONE
BEGIN:VEVENT
DTSTART;TZID=America/Chicago:20220512T170000
DTEND;TZID=America/Chicago:20220512T190000
DTSTAMP:20260420T160620
CREATED:20220325T140322Z
LAST-MODIFIED:20220427T143031Z
UID:10000175-1652374800-1652382000@www.townofnewton.org
SUMMARY:Board of Review
DESCRIPTION:LOCATION:  Newton Town Hall \n6532 Carstens Lake Road\,  Manitowoc\, WI 54220 \nBOARD OF REVIEW: Thursday\, May 12\, 2022 5:00 – 7:00 pm                                         \n\nPurpose of the Board of Review is to review and examine the Assessment Roll of real and personal properties in the Newton.  To receive all sworn statements and valuations real and personal property therein\, and to correct all errors in said roll whether in description of property or otherwise\, and to perform such other duties imposed by law.  Please be advised of the following requirements:   \n\nNo person shall be allowed to appear before the Board of Review\, to testify to the Board by telephone or to contest the amount of any assessment of real or personal property if the person has refused a reasonable written request by certified mail of the Assessor to view such property. \nAfter the first meeting of the Board of Review and before the Board’s final adjournment\, no person who is scheduled to appear before the Board of Review may contact\, or provide information to\, a member of the Board about the person’s objection except at a session of the Board.  \nNo person may appear before the Board of Review\, testify to the Board by telephone or contest the amount of any assessment unless\, at least 48 hours before the first meeting of the Board or at least 48 hours before the objection is heard if the objection is allowed because the person has been granted a waiver of the 48-hour notice of an intent to file a written objection by appearing before the Board during the first two hours of the meeting and showing good cause for failure to meet the 48-hour notice requirement and files a written objection\, that person provides to the Clerk of the Board of Review notice as to whether the person will ask for removal of any Board members and\, if so\, which member will be removed and the person’s reasonable estimate of the length of time that the hearing will take.  \nWhen appearing before the Board\, the person shall specify\, in writing\, the person’s estimate of the value of the land and of the improvements that are the subject of the person’s objection and specify the information that the person used to arrive at that estimate.  \nNo person may appear before the Board of Review\, testify to the Board by telephone or object to a valuation\, if that valuation was made by the Assessor or the Objector using the income method\, unless the person supplies to the Assessor all of the information about income and expenses\, as specified in the manual under Section 73.03(2a)\, that the Assessor requests.  The municipality or county shall provide by ordinance for the confidentiality of information about income and expenses that is provided to the Assessor under this paragraph and shall provide exemptions for persons using the information in the discharge of duties imposed by law or of the duties of their office or by order of a court.  The information that is provided under this paragraph\, unless a court determines that it is inaccurate\, is not subject to the right of inspection and copying under Section 19.35(1).  \nThe Board shall hear upon oath\, by telephone\, all ill or disabled persons who present to the Board a letter from a physician\, surgeon or osteopath that confirms their illness or disability.  No other persons may testify by telephone.  \n\nTown of Newton\, 758-2656 \nPersons with disabilities who need accommodations to attend the meeting should contact the Town Clerk’s Office in their respective Town as soon as possible so that needs can be reasonably meet.
URL:https://www.townofnewton.org/event/board-of-review/
CATEGORIES:Board of Appeals
END:VEVENT
END:VCALENDAR