BEGIN:VCALENDAR
VERSION:2.0
PRODID:-//Town of Newton - ECPv6.15.19//NONSGML v1.0//EN
CALSCALE:GREGORIAN
METHOD:PUBLISH
X-WR-CALNAME:Town of Newton
X-ORIGINAL-URL:https://www.townofnewton.org
X-WR-CALDESC:Events for Town of Newton
REFRESH-INTERVAL;VALUE=DURATION:PT1H
X-Robots-Tag:noindex
X-PUBLISHED-TTL:PT1H
BEGIN:VTIMEZONE
TZID:America/Chicago
BEGIN:DAYLIGHT
TZOFFSETFROM:-0600
TZOFFSETTO:-0500
TZNAME:CDT
DTSTART:20210314T080000
END:DAYLIGHT
BEGIN:STANDARD
TZOFFSETFROM:-0500
TZOFFSETTO:-0600
TZNAME:CST
DTSTART:20211107T070000
END:STANDARD
BEGIN:DAYLIGHT
TZOFFSETFROM:-0600
TZOFFSETTO:-0500
TZNAME:CDT
DTSTART:20220313T080000
END:DAYLIGHT
BEGIN:STANDARD
TZOFFSETFROM:-0500
TZOFFSETTO:-0600
TZNAME:CST
DTSTART:20221106T070000
END:STANDARD
BEGIN:DAYLIGHT
TZOFFSETFROM:-0600
TZOFFSETTO:-0500
TZNAME:CDT
DTSTART:20230312T080000
END:DAYLIGHT
BEGIN:STANDARD
TZOFFSETFROM:-0500
TZOFFSETTO:-0600
TZNAME:CST
DTSTART:20231105T070000
END:STANDARD
END:VTIMEZONE
BEGIN:VEVENT
DTSTART;TZID=America/Chicago:20220322T180000
DTEND;TZID=America/Chicago:20220322T180000
DTSTAMP:20260420T193629
CREATED:20220318T153231Z
LAST-MODIFIED:20220318T153231Z
UID:10000173-1647972000-1647972000@www.townofnewton.org
SUMMARY:Special Town Board Meeting
DESCRIPTION:The Town of Newton\, Manitowoc County\, WI lists this public notice pursuant to Chapter 19.84 of the Wisconsin Statutes. \nThe Newton Town Board will meet at the Newton Town Hall\, 6532 Carstens Lake Road\, Manitowoc\, WI on Wednesday\, March 22\, 2022 at 6:00 pm.  \nTown Board Members:  \nDenise Thomas\, Chairman  \nKevin Behnke\, Supervisor #1  \nKelly Christiansen Supervisor #2  \nBarbara Pankratz\, Clerk  \nPaulette Vogt\, Treasurer  \nAGENDA:  \n1. Call to order.  \n2. Pledge of Allegiance  \n3. Roll Call  \n4. Verification of posting & affidavit.  \n5. Road Project for the BIL Program for Townships Discussion/ Action
URL:https://www.townofnewton.org/event/special-town-board-meeting/
CATEGORIES:Board Meeting
END:VEVENT
END:VCALENDAR