BEGIN:VCALENDAR
VERSION:2.0
PRODID:-//Town of Newton - ECPv6.15.19//NONSGML v1.0//EN
CALSCALE:GREGORIAN
METHOD:PUBLISH
X-ORIGINAL-URL:https://www.townofnewton.org
X-WR-CALDESC:Events for Town of Newton
REFRESH-INTERVAL;VALUE=DURATION:PT1H
X-Robots-Tag:noindex
X-PUBLISHED-TTL:PT1H
BEGIN:VTIMEZONE
TZID:America/Chicago
BEGIN:DAYLIGHT
TZOFFSETFROM:-0600
TZOFFSETTO:-0500
TZNAME:CDT
DTSTART:20210314T080000
END:DAYLIGHT
BEGIN:STANDARD
TZOFFSETFROM:-0500
TZOFFSETTO:-0600
TZNAME:CST
DTSTART:20211107T070000
END:STANDARD
BEGIN:DAYLIGHT
TZOFFSETFROM:-0600
TZOFFSETTO:-0500
TZNAME:CDT
DTSTART:20220313T080000
END:DAYLIGHT
BEGIN:STANDARD
TZOFFSETFROM:-0500
TZOFFSETTO:-0600
TZNAME:CST
DTSTART:20221106T070000
END:STANDARD
BEGIN:DAYLIGHT
TZOFFSETFROM:-0600
TZOFFSETTO:-0500
TZNAME:CDT
DTSTART:20230312T080000
END:DAYLIGHT
BEGIN:STANDARD
TZOFFSETFROM:-0500
TZOFFSETTO:-0600
TZNAME:CST
DTSTART:20231105T070000
END:STANDARD
END:VTIMEZONE
BEGIN:VEVENT
DTSTART;TZID=America/Chicago:20220221T163000
DTEND;TZID=America/Chicago:20220221T163000
DTSTAMP:20260420T213259
CREATED:20220216T144012Z
LAST-MODIFIED:20220218T162554Z
UID:10000165-1645461000-1645461000@www.townofnewton.org
SUMMARY:Town Board Meeting
DESCRIPTION:The Town of Newton\, Manitowoc County\, WI lists this public notice pursuant to Chapter 19.84 of the Wisconsin\nStatutes. The Newton Town Board will meet at the Newton Town Hall\, 6532 Carstens Lake Road\, Manitowoc\, WI\non Monday\, February 21\, 2022 at 4:30 pm.
URL:https://www.townofnewton.org/event/town-board-meeting-2/
CATEGORIES:Board Meeting
END:VEVENT
END:VCALENDAR