BEGIN:VCALENDAR
VERSION:2.0
PRODID:-//Town of Newton - ECPv6.15.19//NONSGML v1.0//EN
CALSCALE:GREGORIAN
METHOD:PUBLISH
X-WR-CALNAME:Town of Newton
X-ORIGINAL-URL:https://www.townofnewton.org
X-WR-CALDESC:Events for Town of Newton
REFRESH-INTERVAL;VALUE=DURATION:PT1H
X-Robots-Tag:noindex
X-PUBLISHED-TTL:PT1H
BEGIN:VTIMEZONE
TZID:America/Chicago
BEGIN:DAYLIGHT
TZOFFSETFROM:-0600
TZOFFSETTO:-0500
TZNAME:CDT
DTSTART:20210314T080000
END:DAYLIGHT
BEGIN:STANDARD
TZOFFSETFROM:-0500
TZOFFSETTO:-0600
TZNAME:CST
DTSTART:20211107T070000
END:STANDARD
BEGIN:DAYLIGHT
TZOFFSETFROM:-0600
TZOFFSETTO:-0500
TZNAME:CDT
DTSTART:20220313T080000
END:DAYLIGHT
BEGIN:STANDARD
TZOFFSETFROM:-0500
TZOFFSETTO:-0600
TZNAME:CST
DTSTART:20221106T070000
END:STANDARD
BEGIN:DAYLIGHT
TZOFFSETFROM:-0600
TZOFFSETTO:-0500
TZNAME:CDT
DTSTART:20230312T080000
END:DAYLIGHT
BEGIN:STANDARD
TZOFFSETFROM:-0500
TZOFFSETTO:-0600
TZNAME:CST
DTSTART:20231105T070000
END:STANDARD
END:VTIMEZONE
BEGIN:VEVENT
DTSTART;TZID=America/Chicago:20220108T083000
DTEND;TZID=America/Chicago:20220108T090000
DTSTAMP:20260420T231727
CREATED:20211230T162544Z
LAST-MODIFIED:20211230T162844Z
UID:10000160-1641630600-1641632400@www.townofnewton.org
SUMMARY:Board of Appeals Site Visit
DESCRIPTION:January 8\, 2022 at 8:30 am \nSite visit: 6122 Sonnenburg Lane
URL:https://www.townofnewton.org/event/board-of-appeals-meeting/
CATEGORIES:Board of Appeals
END:VEVENT
BEGIN:VEVENT
DTSTART;TZID=America/Chicago:20220108T090000
DTEND;TZID=America/Chicago:20220108T090000
DTSTAMP:20260420T231727
CREATED:20211230T162947Z
LAST-MODIFIED:20211230T162947Z
UID:10000161-1641632400-1641632400@www.townofnewton.org
SUMMARY:Board of Appeals Meeting
DESCRIPTION:January 8\, 2022 at 9:00 am \n 
URL:https://www.townofnewton.org/event/board-of-appeals-meeting-2/
CATEGORIES:Board of Appeals
END:VEVENT
END:VCALENDAR